BEGIN:VCALENDAR
VERSION:2.0
PRODID:-//wp-events-plugin.com//7.2.3.1//EN
TZID:America/Toronto
X-WR-TIMEZONE:America/Toronto
BEGIN:VEVENT
UID:152@bikesudbury.ca
DTSTART;TZID=America/Toronto:20220526T183000
DTEND;TZID=America/Toronto:20220526T203000
DTSTAMP:20220523T144420Z
URL:https://bikesudbury.ca/events/05-26-2022/
SUMMARY:Community Bike Ride - May 26\, 2022
DESCRIPTION:This week\, we'll be riding around the South End. For the first
  ride of the season\, we'll be doing a shorter ride to get everyone back i
 nto the swing of things! We'll meet at the parking lot just opposite from 
 the Laughing Buddha on Elgin Street.
CATEGORIES:Rides
LOCATION:Old Spacecraft Brewery Location\, 854 Notre Dame\, Sudbury\, Ontar
 io\, P3A 2T4\, Canada
GEO:46.51188699999999;-80.98494199999999
X-APPLE-STRUCTURED-LOCATION;VALUE=URI;X-ADDRESS=854 Notre Dame\, Sudbury\, 
 Ontario\, P3A 2T4\, Canada;X-APPLE-RADIUS=100;X-TITLE=Old Spacecraft Brewe
 ry Location:geo:46.51188699999999,-80.98494199999999
END:VEVENT
BEGIN:VTIMEZONE
TZID:America/Toronto
X-LIC-LOCATION:America/Toronto
BEGIN:DAYLIGHT
DTSTART:20220313T030000
TZOFFSETFROM:-0500
TZOFFSETTO:-0400
TZNAME:EDT
END:DAYLIGHT
END:VTIMEZONE
END:VCALENDAR