BEGIN:VCALENDAR
VERSION:2.0
PRODID:-//wp-events-plugin.com//7.2.3.1//EN
TZID:America/Toronto
X-WR-TIMEZONE:America/Toronto
BEGIN:VEVENT
UID:162@bikesudbury.ca
DTSTART;TZID=America/Toronto:20220728T183000
DTEND;TZID=America/Toronto:20220728T203000
DTSTAMP:20220728T211901Z
URL:https://bikesudbury.ca/events/07-28-2022/
SUMMARY:Community Bike Ride - July 28\, 2022 - We're riding!
DESCRIPTION:This week\, we'll be riding around the South End. For the first
  ride of the season\, we'll be doing a shorter ride to get everyone back i
 nto the swing of things! We'll meet at the parking lot just opposite from 
 the Laughing Buddha on Elgin Street.
CATEGORIES:Rides
LOCATION:The Edgar Leclair Community Centre and Arena\, 158 St. Agnes St\, 
 Azilda\, ON\, Canada
GEO:46.552009;-81.121744
X-APPLE-STRUCTURED-LOCATION;VALUE=URI;X-ADDRESS=158 St. Agnes St\, Azilda\,
  ON\, Canada;X-APPLE-RADIUS=100;X-TITLE=The Edgar Leclair Community Centre
  and Arena:geo:46.552009,-81.121744
END:VEVENT
BEGIN:VTIMEZONE
TZID:America/Toronto
X-LIC-LOCATION:America/Toronto
BEGIN:DAYLIGHT
DTSTART:20220313T030000
TZOFFSETFROM:-0500
TZOFFSETTO:-0400
TZNAME:EDT
END:DAYLIGHT
END:VTIMEZONE
END:VCALENDAR