BEGIN:VCALENDAR
VERSION:2.0
PRODID:-//wp-events-plugin.com//7.2.3.1//EN
TZID:America/Toronto
X-WR-TIMEZONE:America/Toronto
BEGIN:VEVENT
UID:49@bikesudbury.ca
DTSTART;TZID=America/Toronto:20181118T120000
DTEND;TZID=America/Toronto:20181118T140000
DTSTAMP:20181118T144314Z
URL:https://bikesudbury.ca/events/bike-repair-workshop/
SUMMARY:Bike Repair Workshop
DESCRIPTION:As we work on repairing over 150 bicycles for the 2019 Kids Bik
 e Exchange program\, our lead mechanic Kevin Morgan is doing some bike rep
 air workshops for people wanting to learn about repairing bikes.\n\nOur wo
 rkshop today is on bike triage and brakes.\n\nWatch for more info on the w
 orkshops here or our facebook page!
LOCATION:Kids Bike Exchange\, 322 McNaughton Terrace\, Sudbury\, Ontario\, 
 P3E 1V8\, Canada
GEO:46.479953926907804;-80.98738400583494
X-APPLE-STRUCTURED-LOCATION;VALUE=URI;X-ADDRESS=322 McNaughton Terrace\, Su
 dbury\, Ontario\, P3E 1V8\, Canada;X-APPLE-RADIUS=100;X-TITLE=Kids Bike Ex
 change:geo:46.479953926907804,-80.98738400583494
END:VEVENT
BEGIN:VTIMEZONE
TZID:America/Toronto
X-LIC-LOCATION:America/Toronto
BEGIN:STANDARD
DTSTART:20181104T010000
TZOFFSETFROM:-0400
TZOFFSETTO:-0500
TZNAME:EST
END:STANDARD
END:VTIMEZONE
END:VCALENDAR