BEGIN:VCALENDAR
VERSION:2.0
PRODID:-//wp-events-plugin.com//7.2.3.1//EN
TZID:America/Toronto
X-WR-TIMEZONE:America/Toronto
BEGIN:VEVENT
UID:115@bikesudbury.ca
DTSTART;TZID=America/Toronto:20190627T080000
DTEND;TZID=America/Toronto:20190627T100000
DTSTAMP:20190621T125717Z
URL:https://bikesudbury.ca/events/earthcare-breakfast/
SUMMARY:EarthCare Breakfast - CANCELLED
DESCRIPTION:We'll be at the EarthCare Breakfast! Come join us!\n\nJoin Eart
 hCare Partners for breakfast and a panel discussion on biking to work in G
 reater Sudbury. What are the barriers for cyclists? How can businesses and
  EarthCare Sudbury Partners encourage their staff and customers\, and reap
  the benefits.\n\nFor more information\, visit the EarthCare Sudbury websi
 te.
CATEGORIES:Community Event
LOCATION:Verdicchio Ristorante\, 1351-D Kelly Lake Road\, Sudbury\, Ontario
 \, P3E 5P5\, Canada
GEO:46.4634;-81.030437
X-APPLE-STRUCTURED-LOCATION;VALUE=URI;X-ADDRESS=1351-D Kelly Lake Road\, Su
 dbury\, Ontario\, P3E 5P5\, Canada;X-APPLE-RADIUS=100;X-TITLE=Verdicchio R
 istorante:geo:46.4634,-81.030437
END:VEVENT
BEGIN:VTIMEZONE
TZID:America/Toronto
X-LIC-LOCATION:America/Toronto
BEGIN:DAYLIGHT
DTSTART:20190310T030000
TZOFFSETFROM:-0500
TZOFFSETTO:-0400
TZNAME:EDT
END:DAYLIGHT
END:VTIMEZONE
END:VCALENDAR