BEGIN:VCALENDAR
VERSION:2.0
PRODID:-//wp-events-plugin.com//7.2.3.1//EN
TZID:America/Toronto
X-WR-TIMEZONE:America/Toronto
BEGIN:VEVENT
UID:120@bikesudbury.ca
DTSTART;TZID=America/Toronto:20190711T203000
DTEND;TZID=America/Toronto:20190711T223000
DTSTAMP:20190703T123008Z
URL:https://bikesudbury.ca/events/unleash-your-potential-talk/
SUMMARY:Unleash Your Potential Talk
DESCRIPTION:\n\nCome out to meet a Greater Sudbury student who is one of fo
 ur chiropractic students doing the Unleash Your Potential bike tour this y
 ear. Our very own Garrett Duff is a student at the Canadian Memorial Chiro
 practic College and he is cycling from British Columbia to Newfoundland wi
 th his three teammates Justin Reay\, Sefrah Daviduck\, and Lauryn Friesen.
 \n\nTheir mission is to promote physical activity\, proper nutrition and s
 tress management to young Canadians\, and help them form habits that will 
 last a lifetime and create a healthier generation for the future. The goal
  of the campaign is what the name suggests – to unleash the potential of
  every young Canadian to live a healthier\, happier life.\n\nCome meet the
  students and hear some great stories on July 11 at 8:30 pm at Spacecraft 
 Breweries. More info here: https://www.chiropractic.ca/blog/chiropractic-s
 tudents-inspire-youth-to-unleash-their-potential/ Bike Sudbury will be sta
 rting and ending their Thursday ride at Spacecraft\, so join us at 6:30 fo
 r a ride first!
CATEGORIES:Socials
LOCATION:Old Spacecraft Brewery Location\, 854 Notre Dame\, Sudbury\, Ontar
 io\, P3A 2T4\, Canada
GEO:46.51188699999999;-80.98494199999999
X-APPLE-STRUCTURED-LOCATION;VALUE=URI;X-ADDRESS=854 Notre Dame\, Sudbury\, 
 Ontario\, P3A 2T4\, Canada;X-APPLE-RADIUS=100;X-TITLE=Old Spacecraft Brewe
 ry Location:geo:46.51188699999999,-80.98494199999999
END:VEVENT
BEGIN:VTIMEZONE
TZID:America/Toronto
X-LIC-LOCATION:America/Toronto
BEGIN:DAYLIGHT
DTSTART:20190310T030000
TZOFFSETFROM:-0500
TZOFFSETTO:-0400
TZNAME:EDT
END:DAYLIGHT
END:VTIMEZONE
END:VCALENDAR